BEGIN:VCALENDAR
VERSION:2.0
PRODID:icalendar-ruby
CALSCALE:GREGORIAN
METHOD:PUBLISH
BEGIN:VTIMEZONE
TZID:Europe/London
BEGIN:DAYLIGHT
DTSTART:20170326T020000
TZOFFSETFROM:+0000
TZOFFSETTO:+0100
RRULE:FREQ=YEARLY;BYDAY=-1SU;BYMONTH=3
TZNAME:BST
END:DAYLIGHT
BEGIN:STANDARD
DTSTART:20171029T010000
TZOFFSETFROM:+0100
TZOFFSETTO:+0000
RRULE:FREQ=YEARLY;BYDAY=-1SU;BYMONTH=10
TZNAME:GMT
END:STANDARD
END:VTIMEZONE
BEGIN:VEVENT
DTSTAMP:20260423T192504Z
UID:red-cross-society-film-clip-and-discussion
DTSTART;TZID=Europe/London:20170925T190000
DTEND;TZID=Europe/London:20170925T220000
LOCATION:Union Square\, outside Students’ Union building\, City Campus at
  6.45 pm
SUMMARY:Red Cross Society Film Clip and Discussion
END:VEVENT
END:VCALENDAR
