BEGIN:VCALENDAR
VERSION:2.0
PRODID:icalendar-ruby
CALSCALE:GREGORIAN
METHOD:PUBLISH
BEGIN:VTIMEZONE
TZID:Europe/London
BEGIN:DAYLIGHT
DTSTART:20170326T020000
TZOFFSETFROM:+0000
TZOFFSETTO:+0100
RRULE:FREQ=YEARLY;BYDAY=-1SU;BYMONTH=3
TZNAME:BST
END:DAYLIGHT
BEGIN:STANDARD
DTSTART:20171029T010000
TZOFFSETFROM:+0100
TZOFFSETTO:+0000
RRULE:FREQ=YEARLY;BYDAY=-1SU;BYMONTH=10
TZNAME:GMT
END:STANDARD
END:VTIMEZONE
BEGIN:VEVENT
DTSTAMP:20260423T193608Z
UID:ntu-pride-brackenhurst-meet-and-greet
DTSTART;TZID=Europe/London:20170926T160000
DTEND;TZID=Europe/London:20170926T190000
LOCATION:The Orangery\, Students' Union building\, Brackenhurst Campus
SUMMARY:NTU Pride - Brackenhurst Meet and Greet
END:VEVENT
END:VCALENDAR
